BEGIN:VCALENDAR
VERSION:2.0
PRODID:-//Tukios.com/
BEGIN:VEVENT
UID:5e9cae2d-1663-4dbf-b0a1-14718092f81c@obituaries.forestlawn.com
DTSTAMP:20260424T024112Z
DTSTART:20260501T210000Z
DTEND:20260501T220000Z
SUMMARY:Funeral Service of Yu Ching Wu
DESCRIPTION:
URL:https://obituaries.forestlawn.com/obituaries/yu-ching-wu
LOCATION:Forest Lawn - Glendale - Wee Kirk o' the Heather 1712 South 
	Glendale Avenue  Glendale CA 91205
GEO:34.1246622;-118.2524691
END:VEVENT
END:VCALENDAR