BEGIN:VCALENDAR
VERSION:2.0
PRODID:-//Tukios.com/
BEGIN:VEVENT
UID:c6d657ad-f93d-430b-ba9a-5b7a7da7c670@obituaries.forestlawn.com
DTSTAMP:20260424T024041Z
DTSTART:20260501T180000Z
DTEND:20260501T190000Z
SUMMARY:Visitation of Yu Ching Wu
DESCRIPTION:
URL:https://obituaries.forestlawn.com/obituaries/yu-ching-wu
LOCATION:Forest Lawn - Glendale 1712 South Glendale Avenue  Glendale CA 
	91205
GEO:34.1246622;-118.2524691
END:VEVENT
END:VCALENDAR