BEGIN:VCALENDAR
VERSION:2.0
PRODID:-//Tukios.com/
BEGIN:VEVENT
UID:6cbc59af-0468-404c-8ddb-6aad79da804a@obituaries.forestlawn.com
DTSTAMP:20260422T230852Z
DTSTART:20260725T210000Z
DTEND:20260725T220000Z
SUMMARY:Memorial Service of Wilma Oppenheim
DESCRIPTION:
URL:https://obituaries.forestlawn.com/obituaries/wilma-myrtle-oppenheim
LOCATION:Forest Lawn - Long Beach - Memorial Chapel 1500 East San Antonio 
	Drive  Long Beach CA 90807
GEO:33.842504;-118.169307
END:VEVENT
END:VCALENDAR