BEGIN:VCALENDAR
VERSION:2.0
PRODID:-//Tukios.com/
BEGIN:VEVENT
UID:8201485a-8780-4d2b-b2d4-52813b935941@obituaries.forestlawn.com
DTSTAMP:20260423T195810Z
DTSTART:20260523T000000Z
DTEND:20260523T040000Z
SUMMARY:Memorial Service of Willie Smith
DESCRIPTION:
URL:https://obituaries.forestlawn.com/obituaries/willie-smith
LOCATION:Forest Lawn - Covina Hills - Church of our Heritage 21300 Via 
	Verde Drive  Covina CA 91724
GEO:34.0674771;-117.8423887
END:VEVENT
END:VCALENDAR