BEGIN:VCALENDAR
VERSION:2.0
PRODID:-//Tukios.com/
BEGIN:VEVENT
UID:edd5efbd-de5d-4db2-ba59-feebf922150d@obituaries.forestlawn.com
DTSTAMP:20260423T195607Z
DTSTART:20260509T210000Z
DTEND:20260509T220000Z
SUMMARY:Visitation of Willie Smith
DESCRIPTION:
URL:https://obituaries.forestlawn.com/obituaries/willie-smith
LOCATION:Forest Lawn - Covina Hills 21300 Via Verde Drive  Covina CA 
	91724
GEO:34.0674771;-117.8423887
END:VEVENT
END:VCALENDAR