BEGIN:VCALENDAR
VERSION:2.0
PRODID:-//Tukios.com/
BEGIN:VEVENT
UID:2995e018-d4e2-4f1e-84e7-82b38700ef1c@obituaries.forestlawn.com
DTSTAMP:20260421T021723Z
DTSTART:20260514T163000Z
DTEND:20260514T173000Z
SUMMARY:Funeral Service of William McCullough
DESCRIPTION:
URL:https://obituaries.forestlawn.com/obituaries/william-mccullough
LOCATION:Forest Lawn - Covina Hills - Church of our Heritage 21300 Via 
	Verde Drive  Covina CA 91724
GEO:34.0674771;-117.8423887
END:VEVENT
END:VCALENDAR