BEGIN:VCALENDAR
VERSION:2.0
PRODID:-//Tukios.com/
BEGIN:VEVENT
UID:2d1338dc-af3c-4f92-bb43-73f95875105a@obituaries.forestlawn.com
DTSTAMP:20260424T235607Z
DTSTART:20260523T190000Z
DTEND:20260523T200000Z
SUMMARY:Funeral Service of Therese Lavoie
DESCRIPTION:
URL:https://obituaries.forestlawn.com/obituaries/therese-lavoie
LOCATION:Forest Lawn - Covina Hills - Church of our Heritage 21300 Via 
	Verde Drive  Covina CA 91724
GEO:34.0674771;-117.8423887
END:VEVENT
END:VCALENDAR