BEGIN:VCALENDAR
VERSION:2.0
PRODID:-//Tukios.com/
BEGIN:VEVENT
UID:7236558d-a951-4a81-92fd-438dd45a4ee1@obituaries.forestlawn.com
DTSTAMP:20260425T010840Z
DTSTART:20260518T000000Z
DTEND:20260518T010000Z
SUMMARY:Visitation of Sheila Crawford
DESCRIPTION:
URL:https://obituaries.forestlawn.com/obituaries/sheila-crawford
LOCATION:Forest Lawn - Glendale 1712 South Glendale Avenue  Glendale CA 
	91205
GEO:34.1246622;-118.2524691
END:VEVENT
END:VCALENDAR