BEGIN:VCALENDAR
VERSION:2.0
PRODID:-//Tukios.com/
BEGIN:VEVENT
UID:e7a3aebd-813d-49b7-b3fd-8366895d037f@obituaries.forestlawn.com
DTSTAMP:20260425T010834Z
DTSTART:20260519T163000Z
DTEND:20260519T173000Z
SUMMARY:Funeral Service of Sheila Crawford
DESCRIPTION:
URL:https://obituaries.forestlawn.com/obituaries/sheila-crawford
LOCATION:Forest Lawn - Glendale - Wee Kirk o' the Heather 1712 South 
	Glendale Avenue  Glendale CA 91205
GEO:34.1246622;-118.2524691
END:VEVENT
END:VCALENDAR