BEGIN:VCALENDAR
VERSION:2.0
PRODID:-//Tukios.com/
BEGIN:VEVENT
UID:cd5bc521-0dc1-41bc-a461-fd468e3611ea@obituaries.forestlawn.com
DTSTAMP:20260421T005834Z
DTSTART:20260429T213000Z
DTEND:20260429T223000Z
SUMMARY:Funeral Service of Sahag Minassian
DESCRIPTION:
URL:https://obituaries.forestlawn.com/obituaries/sahag-minassian
LOCATION:Forest Lawn - Hollywood Hills - Old North Church 6300 Forest 
	Lawn Drive  Los Angeles CA 90068
GEO:34.1497997;-118.3269719
END:VEVENT
END:VCALENDAR