BEGIN:VCALENDAR
VERSION:2.0
PRODID:-//Tukios.com/
BEGIN:VEVENT
UID:5291ea1c-65da-4c94-96b9-bc7e16039159@obituaries.forestlawn.com
DTSTAMP:20260424T220516Z
DTSTART:20260508T213000Z
DTEND:20260508T223000Z
SUMMARY:Funeral Service of Ronald Robbins
DESCRIPTION:
URL:https://obituaries.forestlawn.com/obituaries/ronald-robbins
LOCATION:Forest Lawn - Hollywood Hills - Old North Church 6300 Forest 
	Lawn Drive  Los Angeles CA 90068
GEO:34.1497997;-118.3269719
END:VEVENT
END:VCALENDAR