BEGIN:VCALENDAR
VERSION:2.0
PRODID:-//Tukios.com/
BEGIN:VEVENT
UID:d0b87524-de09-435c-a312-101649e7f05c@obituaries.forestlawn.com
DTSTAMP:20260426T035828Z
DTSTART:20260515T170000Z
DTEND:20260515T180000Z
SUMMARY:Funeral Service of Ricardo Moreno, Sr.
DESCRIPTION:
URL:https://obituaries.forestlawn.com/obituaries/ricardo-moreno-sr
LOCATION:Forest Lawn - Glendale - Little Church of the Flowers 1712 South 
	Glendale Avenue  Glendale CA 91205
GEO:34.1246622;-118.2524691
END:VEVENT
END:VCALENDAR