BEGIN:VCALENDAR
VERSION:2.0
PRODID:-//Tukios.com/
BEGIN:VEVENT
UID:c6d9ada5-a490-4f47-bc65-415bd5f5d19f@obituaries.forestlawn.com
DTSTAMP:20260426T035828Z
DTSTART:20260515T000000Z
DTEND:20260515T030000Z
SUMMARY:Vigil of Ricardo Moreno, Sr.
DESCRIPTION:
URL:https://obituaries.forestlawn.com/obituaries/ricardo-moreno-sr
LOCATION:Forest Lawn - Glendale - Little Church of the Flowers 1712 South 
	Glendale Avenue  Glendale CA 91205
GEO:34.1246622;-118.2524691
END:VEVENT
END:VCALENDAR