BEGIN:VCALENDAR
VERSION:2.0
PRODID:-//Tukios.com/
BEGIN:VEVENT
UID:b6e3aaa2-2107-4b7f-9623-3d8c161914a4@obituaries.forestlawn.com
DTSTAMP:20260423T022412Z
DTSTART:20260430T170000Z
DTEND:20260430T190000Z
SUMMARY:Funeral Service of Raymonda Garabet
DESCRIPTION:
URL:https://obituaries.forestlawn.com/obituaries/raymonda-garabet
LOCATION:Saint Nectarios National Shrine 20340 East Covina Boulevard  
	Covina CA 91724
GEO:34.0992;-117.8554889
END:VEVENT
END:VCALENDAR