BEGIN:VCALENDAR
VERSION:2.0
PRODID:-//Tukios.com/
BEGIN:VEVENT
UID:c523be45-9496-4976-a97e-2a91abc02113@obituaries.forestlawn.com
DTSTAMP:20260423T012203Z
DTSTART:20260501T171500Z
DTEND:20260501T181500Z
SUMMARY:Funeral Service of Paul Manders
DESCRIPTION:
URL:https://obituaries.forestlawn.com/obituaries/paul-manders
LOCATION:Annunciation Catholic Church 1307 East Longden Avenue  Arcadia 
	CA 91006
GEO:34.1152874;-118.0050529
END:VEVENT
END:VCALENDAR