BEGIN:VCALENDAR
VERSION:2.0
PRODID:-//Tukios.com/
BEGIN:VEVENT
UID:73864c69-da80-4507-bc47-849bd2cbafcf@obituaries.forestlawn.com
DTSTAMP:20260424T215156Z
DTSTART:20260507T170000Z
DTEND:20260507T180000Z
SUMMARY:Visitation of Norman Richy Cabanilla
DESCRIPTION:
URL:https://obituaries.forestlawn.com/obituaries/norman-richy-cabanilla
LOCATION:Forest Lawn - Hollywood Hills 6300 Forest Lawn Drive  Los 
	Angeles CA 90068
GEO:34.1497997;-118.3269719
END:VEVENT
END:VCALENDAR