BEGIN:VCALENDAR
VERSION:2.0
PRODID:-//Tukios.com/
BEGIN:VEVENT
UID:db9ecd37-4afb-4408-a586-feb6ad886b4c@obituaries.forestlawn.com
DTSTAMP:20260424T215259Z
DTSTART:20260506T230000Z
DTEND:20260507T000000Z
SUMMARY:Visitation of Norman Richy Cabanilla
DESCRIPTION:
URL:https://obituaries.forestlawn.com/obituaries/norman-richy-cabanilla
LOCATION:Forest Lawn - Hollywood Hills 6300 Forest Lawn Drive  Los 
	Angeles CA 90068
GEO:34.1497997;-118.3269719
END:VEVENT
END:VCALENDAR