BEGIN:VCALENDAR
VERSION:2.0
PRODID:-//Tukios.com/
BEGIN:VEVENT
UID:084e896f-e68e-4553-8e93-115c3ee9c6f4@obituaries.forestlawn.com
DTSTAMP:20260424T214703Z
DTSTART:20260508T163000Z
DTEND:20260508T173000Z
SUMMARY:Funeral Service of Norman Richy Cabanilla
DESCRIPTION:
URL:https://obituaries.forestlawn.com/obituaries/norman-richy-cabanilla
LOCATION:Forest Lawn - Hollywood Hills - Church of the Hills 6300 Forest 
	Lawn Drive  Los Angeles CA 90068
GEO:34.1497997;-118.3269719
END:VEVENT
END:VCALENDAR