BEGIN:VCALENDAR
VERSION:2.0
PRODID:-//Tukios.com/
BEGIN:VEVENT
UID:8ea7f6bf-857b-48c9-b264-4172a5d61e08@obituaries.forestlawn.com
DTSTAMP:20260425T024248Z
DTSTART:20260507T163000Z
DTEND:20260507T173000Z
SUMMARY:Funeral Service of Mohsen Movahedi
DESCRIPTION:
URL:https://obituaries.forestlawn.com/obituaries/mohsen-movahedi
LOCATION:Forest Lawn - Hollywood Hills - Church of the Hills 6300 Forest 
	Lawn Drive  Los Angeles CA 90068
GEO:34.1497997;-118.3269719
END:VEVENT
END:VCALENDAR