BEGIN:VCALENDAR
VERSION:2.0
PRODID:-//Tukios.com/
BEGIN:VEVENT
UID:ab0f3691-f872-4f12-9480-a29f32f26022@obituaries.forestlawn.com
DTSTAMP:20260424T040145Z
DTSTART:20260516T000000Z
DTEND:20260516T010000Z
SUMMARY:Visitation of Mariela Magaña
DESCRIPTION:
URL:https://obituaries.forestlawn.com/obituaries/mariela-magana
LOCATION:Forest Lawn - Hollywood Hills 6300 Forest Lawn Drive  Los 
	Angeles CA 90068
GEO:34.1497997;-118.3269719
END:VEVENT
END:VCALENDAR