BEGIN:VCALENDAR
VERSION:2.0
PRODID:-//Tukios.com/
BEGIN:VEVENT
UID:353f85c3-c246-4bcf-8361-c32b12e86ba1@obituaries.forestlawn.com
DTSTAMP:20260424T040311Z
DTSTART:20260516T220000Z
DTEND:20260516T230000Z
SUMMARY:Funeral Service of Mariela Magaña
DESCRIPTION:
URL:https://obituaries.forestlawn.com/obituaries/mariela-magana
LOCATION:Forest Lawn - Hollywood Hills - Church of the Hills 6300 Forest 
	Lawn Drive  Los Angeles CA 90068
GEO:34.1497997;-118.3269719
END:VEVENT
END:VCALENDAR