BEGIN:VCALENDAR
VERSION:2.0
PRODID:-//Tukios.com/
BEGIN:VEVENT
UID:91d75ad7-9f3e-44e8-8621-b6a4070d33ad@obituaries.forestlawn.com
DTSTAMP:20260424T023710Z
DTSTART:20260516T163000Z
DTEND:20260516T173000Z
SUMMARY:Funeral Service of Maria Victoria Lariosa
DESCRIPTION:
URL:https://obituaries.forestlawn.com/obituaries/maria-victoria-lariosa
LOCATION:Forest Lawn - Glendale - Wee Kirk o' the Heather 1712 South 
	Glendale Avenue  Glendale CA 91205
GEO:34.1246622;-118.2524691
END:VEVENT
END:VCALENDAR