BEGIN:VCALENDAR
VERSION:2.0
PRODID:-//Tukios.com/
BEGIN:VEVENT
UID:29a8446c-bc3b-4ac3-9cbf-7e0501a2418d@obituaries.forestlawn.com
DTSTAMP:20260424T024159Z
DTSTART:20260516T183000Z
DTEND:20260516T193000Z
SUMMARY:Visitation of Maria Victoria Lariosa
DESCRIPTION:
URL:https://obituaries.forestlawn.com/obituaries/maria-victoria-lariosa
LOCATION:Forest Lawn - Glendale 1712 South Glendale Avenue  Glendale CA 
	91205
GEO:34.1246622;-118.2524691
END:VEVENT
END:VCALENDAR