BEGIN:VCALENDAR
VERSION:2.0
PRODID:-//Tukios.com/
BEGIN:VEVENT
UID:1cd99ef3-63ff-4732-a0e3-c59542b0f592@obituaries.forestlawn.com
DTSTAMP:20260421T212038Z
DTSTART:20260505T193000Z
DTEND:20260505T203000Z
SUMMARY:Funeral Service of Maria De Franco
DESCRIPTION:
URL:https://obituaries.forestlawn.com/obituaries/maria-de-franco
LOCATION:Forest Lawn - Hollywood Hills - Church of the Hills 6300 Forest 
	Lawn Drive  Los Angeles CA 90068
GEO:34.1497997;-118.3269719
END:VEVENT
END:VCALENDAR