BEGIN:VCALENDAR
VERSION:2.0
PRODID:-//Tukios.com/
BEGIN:VEVENT
UID:7b0bfd71-9fe4-4c2e-b45f-322bbe980321@obituaries.forestlawn.com
DTSTAMP:20260422T031849Z
DTSTART:20260512T170000Z
DTEND:20260512T180000Z
SUMMARY:Visitation of Maria Cornejo
DESCRIPTION:
URL:https://obituaries.forestlawn.com/obituaries/maria-cornejo
LOCATION:Forest Lawn - Hollywood Hills - Faith Chapel 6300 Forest Lawn 
	Drive  Los Angeles CA 90068
GEO:34.1497997;-118.3269719
END:VEVENT
END:VCALENDAR