BEGIN:VCALENDAR
VERSION:2.0
PRODID:-//Tukios.com/
BEGIN:VEVENT
UID:f70a7eb1-098d-49ae-be33-fd06b474dacf@obituaries.forestlawn.com
DTSTAMP:20260422T031849Z
DTSTART:20260513T190000Z
DTEND:20260513T200000Z
SUMMARY:Funeral Service of Maria Cornejo
DESCRIPTION:
URL:https://obituaries.forestlawn.com/obituaries/maria-cornejo
LOCATION:Forest Lawn - Hollywood Hills - Old North Church 6300 Forest 
	Lawn Drive  Los Angeles CA 90068
GEO:34.1497997;-118.3269719
END:VEVENT
END:VCALENDAR