BEGIN:VCALENDAR
VERSION:2.0
PRODID:-//Tukios.com/
BEGIN:VEVENT
UID:37143775-69e6-4fff-92bb-bd80ae0a3eed@obituaries.forestlawn.com
DTSTAMP:20260423T012336Z
DTSTART:20260507T000000Z
DTEND:20260507T040000Z
SUMMARY:Prayer Service of Julia Pacheco
DESCRIPTION:
URL:https://obituaries.forestlawn.com/obituaries/julia-pacheco
LOCATION:Forest Lawn - Covina Hills - Church of our Heritage 21300 Via 
	Verde Drive  Covina CA 91724
GEO:34.0674771;-117.8423887
END:VEVENT
END:VCALENDAR