BEGIN:VCALENDAR
VERSION:2.0
PRODID:-//Tukios.com/
BEGIN:VEVENT
UID:272b2e03-49fd-4f2e-aafc-ceff80c6531c@obituaries.forestlawn.com
DTSTAMP:20260423T012815Z
DTSTART:20260507T213000Z
DTEND:20260507T223000Z
SUMMARY:Funeral Service of Julia Pacheco
DESCRIPTION:
URL:https://obituaries.forestlawn.com/obituaries/julia-pacheco
LOCATION:Forest Lawn - Covina Hills - Church of our Heritage 21300 Via 
	Verde Drive  Covina CA 91724
GEO:34.0674771;-117.8423887
END:VEVENT
END:VCALENDAR