BEGIN:VCALENDAR
VERSION:2.0
PRODID:-//Tukios.com/
BEGIN:VEVENT
UID:9ffa4ec3-f123-4ef9-b4f2-09dc413cbb74@obituaries.forestlawn.com
DTSTAMP:20260425T024548Z
DTSTART:20260515T000000Z
DTEND:20260515T010000Z
SUMMARY:Visitation of Jose Lopez
DESCRIPTION:
URL:https://obituaries.forestlawn.com/obituaries/jose-t-lopez
LOCATION:Forest Lawn - Hollywood Hills 6300 Forest Lawn Drive  Los 
	Angeles CA 90068
GEO:34.1497997;-118.3269719
END:VEVENT
END:VCALENDAR