BEGIN:VCALENDAR
VERSION:2.0
PRODID:-//Tukios.com/
BEGIN:VEVENT
UID:df25e070-85dc-4a28-b006-38c138789dcf@obituaries.forestlawn.com
DTSTAMP:20260425T024314Z
DTSTART:20260515T213000Z
DTEND:20260515T223000Z
SUMMARY:Funeral Service of Jose Lopez
DESCRIPTION:
URL:https://obituaries.forestlawn.com/obituaries/jose-t-lopez
LOCATION:Forest Lawn - Hollywood Hills - Old North Church 6300 Forest 
	Lawn Drive  Los Angeles CA 90068
GEO:34.1497997;-118.3269719
END:VEVENT
END:VCALENDAR