BEGIN:VCALENDAR
VERSION:2.0
PRODID:-//Tukios.com/
BEGIN:VEVENT
UID:30d03d5a-7c73-48bc-9ff0-68d0272a06af@obituaries.forestlawn.com
DTSTAMP:20260423T203536Z
DTSTART:20260430T220000Z
DTEND:20260430T220000Z
SUMMARY:Visitation of Jose Moreno
DESCRIPTION:
URL:https://obituaries.forestlawn.com/obituaries/jose-p-moreno
LOCATION:Evangelina Alonso's Residence 3353 Andrita Street  Los Angeles 
	CA 90065
GEO:34.1203829;-118.2411691
END:VEVENT
END:VCALENDAR