BEGIN:VCALENDAR
VERSION:2.0
PRODID:-//Tukios.com/
BEGIN:VEVENT
UID:aaa1ac9e-f36e-4250-8e04-efe9bdb8a7c4@obituaries.forestlawn.com
DTSTAMP:20260423T203949Z
DTSTART:20260501T190000Z
DTEND:20260501T193000Z
SUMMARY:Graveside Service of Jose Moreno
DESCRIPTION:
URL:https://obituaries.forestlawn.com/obituaries/jose-p-moreno
LOCATION:Forest Lawn - Glendale 1712 South Glendale Avenue  Glendale CA 
	91205
GEO:34.1246622;-118.2524691
END:VEVENT
END:VCALENDAR