BEGIN:VCALENDAR
VERSION:2.0
PRODID:-//Tukios.com/
BEGIN:VEVENT
UID:ad8dede4-ea80-41e0-841a-d1fdfcd8156a@obituaries.forestlawn.com
DTSTAMP:20260423T041844Z
DTSTART:20260516T190000Z
DTEND:20260516T200000Z
SUMMARY:Funeral Service of Jose Sanchez
DESCRIPTION:
URL:https://obituaries.forestlawn.com/obituaries/jose-luis-sanchez
LOCATION:Forest Lawn - Hollywood Hills - Old North Church 6300 Forest 
	Lawn Drive  Los Angeles CA 90068
GEO:34.1497997;-118.3269719
END:VEVENT
END:VCALENDAR