BEGIN:VCALENDAR
VERSION:2.0
PRODID:-//Tukios.com/
BEGIN:VEVENT
UID:485cc4b9-ac5e-4209-b6d9-aca1308f0d04@obituaries.forestlawn.com
DTSTAMP:20260423T042148Z
DTSTART:20260515T200000Z
DTEND:20260515T210000Z
SUMMARY:Visitation of Jose Sanchez
DESCRIPTION:
URL:https://obituaries.forestlawn.com/obituaries/jose-luis-sanchez
LOCATION:Forest Lawn - Hollywood Hills 6300 Forest Lawn Drive  Los 
	Angeles CA 90068
GEO:34.1497997;-118.3269719
END:VEVENT
END:VCALENDAR