BEGIN:VCALENDAR
VERSION:2.0
PRODID:-//Tukios.com/
BEGIN:VEVENT
UID:453bcfce-fda8-464a-8023-6a7e7a3b9a67@obituaries.forestlawn.com
DTSTAMP:20260424T194748Z
DTSTART:20260502T213000Z
DTEND:20260502T223000Z
SUMMARY:Funeral Service of Jose Gonzalez Arias
DESCRIPTION:
URL:https://obituaries.forestlawn.com/obituaries/jose-gonzalez-arias
LOCATION:Forest Lawn - Covina Hills - Church of our Heritage 21300 Via 
	Verde Drive  Covina CA 91724
GEO:34.0674771;-117.8423887
END:VEVENT
END:VCALENDAR