BEGIN:VCALENDAR
VERSION:2.0
PRODID:-//Tukios.com/
BEGIN:VEVENT
UID:e6806b2b-23b9-4141-9173-f580ec5a2304@obituaries.forestlawn.com
DTSTAMP:20260424T195320Z
DTSTART:20260502T000000Z
DTEND:20260502T040000Z
SUMMARY:Prayer Service of Jose Gonzalez Arias
DESCRIPTION:
URL:https://obituaries.forestlawn.com/obituaries/jose-gonzalez-arias
LOCATION:Forest Lawn - Covina Hills - Church of our Heritage 21300 Via 
	Verde Drive  Covina CA 91724
GEO:34.0674771;-117.8423887
END:VEVENT
END:VCALENDAR