BEGIN:VCALENDAR
VERSION:2.0
PRODID:-//Tukios.com/
BEGIN:VEVENT
UID:e25641f8-2b75-4f41-9157-3aca6dc74231@obituaries.forestlawn.com
DTSTAMP:20260422T000155Z
DTSTART:20260509T190000Z
DTEND:20260509T200000Z
SUMMARY:Funeral Service of Jianguo Tang
DESCRIPTION:
URL:https://obituaries.forestlawn.com/obituaries/jianguo-tang
LOCATION:Forest Lawn - Covina Hills - Church of our Heritage 21300 Via 
	Verde Drive  Covina CA 91724
GEO:34.0674771;-117.8423887
END:VEVENT
END:VCALENDAR