BEGIN:VCALENDAR
VERSION:2.0
PRODID:-//Tukios.com/
BEGIN:VEVENT
UID:afa5ad32-8167-43b2-90e4-6b8b52b2a884@obituaries.forestlawn.com
DTSTAMP:20260422T192104Z
DTSTART:20260515T180000Z
DTEND:20260515T200000Z
SUMMARY:Funeral Service of Jeane Peleh
DESCRIPTION:
URL:https://obituaries.forestlawn.com/obituaries/jeane-peleh
LOCATION:Eden Lutheran Church 4725 Brockton Avenue  Riverside CA 92506
GEO:33.9757033;-117.3872117
END:VEVENT
END:VCALENDAR