BEGIN:VCALENDAR
VERSION:2.0
PRODID:-//Tukios.com/
BEGIN:VEVENT
UID:3d6d00dd-97a0-4e32-9ff4-a93a6d2fa830@obituaries.forestlawn.com
DTSTAMP:20260423T040237Z
DTSTART:20260501T160000Z
DTEND:20260501T163000Z
SUMMARY:Cryptside Service of James Stuemke
DESCRIPTION:
URL:https://obituaries.forestlawn.com/obituaries/james-stuemke
LOCATION:Forest Lawn - Glendale 1712 South Glendale Avenue  Glendale CA 
	91205
GEO:34.1246622;-118.2524691
END:VEVENT
END:VCALENDAR