BEGIN:VCALENDAR
VERSION:2.0
PRODID:-//Tukios.com/
BEGIN:VEVENT
UID:36ad1e77-9ea1-49ec-bf48-8bbdd4a883cb@obituaries.forestlawn.com
DTSTAMP:20260422T013002Z
DTSTART:20260522T210000Z
DTEND:20260522T213000Z
SUMMARY:Nicheside Service of Harumi Corwin
DESCRIPTION:
URL:https://obituaries.forestlawn.com/obituaries/harumi-corwin
LOCATION:Forest Lawn - Long Beach 1500 East San Antonio Drive  Long Beach 
	CA 90807
GEO:33.842504;-118.169307
END:VEVENT
END:VCALENDAR