BEGIN:VCALENDAR
VERSION:2.0
PRODID:-//Tukios.com/
BEGIN:VEVENT
UID:d418dbb4-5eb7-4622-9538-d3941f7d53a0@obituaries.forestlawn.com
DTSTAMP:20260422T013222Z
DTSTART:20260508T223000Z
DTEND:20260508T230000Z
SUMMARY:Nicheside Service of Freddy Contreras
DESCRIPTION:
URL:https://obituaries.forestlawn.com/obituaries/freddy-contreras
LOCATION:Forest Lawn - Covina Hills 21300 Via Verde Drive  Covina CA 
	91724
GEO:34.0674771;-117.8423887
END:VEVENT
END:VCALENDAR