BEGIN:VCALENDAR
VERSION:2.0
PRODID:-//Tukios.com/
BEGIN:VEVENT
UID:3478d5fc-4e04-4770-bcf6-f6c2ed876bfd@obituaries.forestlawn.com
DTSTAMP:20260422T013027Z
DTSTART:20260508T000000Z
DTEND:20260508T040000Z
SUMMARY:Funeral Service of Freddy Contreras
DESCRIPTION:
URL:https://obituaries.forestlawn.com/obituaries/freddy-contreras
LOCATION:Forest Lawn - Covina Hills - Church of our Heritage 21300 Via 
	Verde Drive  Covina CA 91724
GEO:34.0674771;-117.8423887
END:VEVENT
END:VCALENDAR