BEGIN:VCALENDAR
VERSION:2.0
PRODID:-//Tukios.com/
BEGIN:VEVENT
UID:ef06a9d0-ac75-463b-8ca0-dc68a6dab71f@obituaries.forestlawn.com
DTSTAMP:20260424T220354Z
DTSTART:20260512T223000Z
DTEND:20260512T230000Z
SUMMARY:Nicheside Service of Evelyn Papa
DESCRIPTION:
URL:https://obituaries.forestlawn.com/obituaries/evelyn-papa
LOCATION:Forest Lawn - Covina Hills 21300 Via Verde Drive  Covina CA 
	91724
GEO:34.0674771;-117.8423887
END:VEVENT
END:VCALENDAR