BEGIN:VCALENDAR
VERSION:2.0
PRODID:-//Tukios.com/
BEGIN:VEVENT
UID:331e0a07-671d-43b6-b8ad-45c2c0a55ee5@obituaries.forestlawn.com
DTSTAMP:20260424T220523Z
DTSTART:20260509T223000Z
DTEND:20260509T233000Z
SUMMARY:Visitation of Evelyn Papa
DESCRIPTION:
URL:https://obituaries.forestlawn.com/obituaries/evelyn-papa
LOCATION:Forest Lawn - Covina Hills - Tribute Center 21300 Via Verde 
	Drive  Covina CA 91724
GEO:34.0674771;-117.8423887
END:VEVENT
END:VCALENDAR