BEGIN:VCALENDAR
VERSION:2.0
PRODID:-//Tukios.com/
BEGIN:VEVENT
UID:451f4e1c-5eda-4745-ae11-bdf8ae25ec9e@obituaries.forestlawn.com
DTSTAMP:20260424T220523Z
DTSTART:20260509T213000Z
DTEND:20260509T223000Z
SUMMARY:Funeral Service of Evelyn Papa
DESCRIPTION:
URL:https://obituaries.forestlawn.com/obituaries/evelyn-papa
LOCATION:Forest Lawn - Covina Hills - Tribute Center 21300 Via Verde 
	Drive  Covina CA 91724
GEO:34.0674771;-117.8423887
END:VEVENT
END:VCALENDAR