BEGIN:VCALENDAR
VERSION:2.0
PRODID:-//Tukios.com/
BEGIN:VEVENT
UID:a9de6202-a196-4541-8091-1f5ad8c40f5c@obituaries.forestlawn.com
DTSTAMP:20260424T220409Z
DTSTART:20260509T170000Z
DTEND:20260509T180000Z
SUMMARY:Visitation of Evelyn Papa
DESCRIPTION:
URL:https://obituaries.forestlawn.com/obituaries/evelyn-papa
LOCATION:Forest Lawn - Covina Hills - Tribute Center 21300 Via Verde 
	Drive  Covina CA 91724
GEO:34.0674771;-117.8423887
END:VEVENT
END:VCALENDAR