BEGIN:VCALENDAR
VERSION:2.0
PRODID:-//Tukios.com/
BEGIN:VEVENT
UID:c366f698-d147-4851-adda-5b1fd885d89e@obituaries.forestlawn.com
DTSTAMP:20260424T130928Z
DTSTART:20260512T190000Z
DTEND:20260512T200000Z
SUMMARY:Funeral Service of Efrain Ramirez
DESCRIPTION:
URL:https://obituaries.forestlawn.com/obituaries/efrain-ramirez-2026
LOCATION:St. Pius V Catholic Church 7691 Orangethorpe Avenue  Buena Park 
	CA 90621
GEO:33.8592061;-117.9993613
END:VEVENT
END:VCALENDAR