BEGIN:VCALENDAR
VERSION:2.0
PRODID:-//Tukios.com/
BEGIN:VEVENT
UID:2da4c4e5-8596-426c-9998-18602e8fe715@obituaries.forestlawn.com
DTSTAMP:20260423T233550Z
DTSTART:20260511T230000Z
DTEND:20260512T030000Z
SUMMARY:Visitation of Efrain Ramirez
DESCRIPTION:
URL:https://obituaries.forestlawn.com/obituaries/efrain-ramirez-2026
LOCATION:Forest Lawn - Cypress - Church of Our Fathers 4471 Lincoln 
	Avenue  Cypress CA 90630
GEO:33.8327423;-118.0555904
END:VEVENT
END:VCALENDAR