BEGIN:VCALENDAR
VERSION:2.0
PRODID:-//Tukios.com/
BEGIN:VEVENT
UID:52456d4b-d4f2-445f-a0f7-e994b681719f@obituaries.forestlawn.com
DTSTAMP:20260422T000341Z
DTSTART:20260502T170000Z
DTEND:20260502T190000Z
SUMMARY:Funeral Service of Dwan Johnson
DESCRIPTION:
URL:https://obituaries.forestlawn.com/obituaries/dwan-johnson
LOCATION:Forest Lawn - Cypress - Patriots Chapel 4471 Lincoln Avenue  
	Cypress CA 90630
GEO:33.8327423;-118.0555904
END:VEVENT
END:VCALENDAR