BEGIN:VCALENDAR
VERSION:2.0
PRODID:-//Tukios.com/
BEGIN:VEVENT
UID:a4090d5c-3429-4100-a5df-7f06ba1adcd4@obituaries.forestlawn.com
DTSTAMP:20260425T010000Z
DTSTART:20260504T190000Z
DTEND:20260504T193000Z
SUMMARY:Graveside Service of Deneen Vargas
DESCRIPTION:
URL:https://obituaries.forestlawn.com/obituaries/deneen-vargas
LOCATION:Forest Lawn - Covina Hills 21300 Via Verde Drive  Covina CA 
	91724
GEO:34.0674771;-117.8423887
END:VEVENT
END:VCALENDAR